BEGIN:VCALENDAR
VERSION:2.0
PRODID:-//PAUL KLEMPERER MUSIC - ECPv6.15.20//NONSGML v1.0//EN
CALSCALE:GREGORIAN
METHOD:PUBLISH
X-WR-CALNAME:PAUL KLEMPERER MUSIC
X-ORIGINAL-URL:https://pksax.com
X-WR-CALDESC:Events for PAUL KLEMPERER MUSIC
REFRESH-INTERVAL;VALUE=DURATION:PT1H
X-Robots-Tag:noindex
X-PUBLISHED-TTL:PT1H
BEGIN:VTIMEZONE
TZID:America/Chicago
BEGIN:DAYLIGHT
TZOFFSETFROM:-0600
TZOFFSETTO:-0500
TZNAME:CDT
DTSTART:20250309T080000
END:DAYLIGHT
BEGIN:STANDARD
TZOFFSETFROM:-0500
TZOFFSETTO:-0600
TZNAME:CST
DTSTART:20251102T070000
END:STANDARD
BEGIN:DAYLIGHT
TZOFFSETFROM:-0600
TZOFFSETTO:-0500
TZNAME:CDT
DTSTART:20260308T080000
END:DAYLIGHT
BEGIN:STANDARD
TZOFFSETFROM:-0500
TZOFFSETTO:-0600
TZNAME:CST
DTSTART:20261101T070000
END:STANDARD
BEGIN:DAYLIGHT
TZOFFSETFROM:-0600
TZOFFSETTO:-0500
TZNAME:CDT
DTSTART:20270314T080000
END:DAYLIGHT
BEGIN:STANDARD
TZOFFSETFROM:-0500
TZOFFSETTO:-0600
TZNAME:CST
DTSTART:20271107T070000
END:STANDARD
END:VTIMEZONE
BEGIN:VEVENT
DTSTART;TZID=America/Chicago:20260424T180000
DTEND;TZID=America/Chicago:20260424T203000
DTSTAMP:20260420T065505
CREATED:20231002T180117Z
LAST-MODIFIED:20260408T032610Z
UID:3987-1777053600-1777062600@pksax.com
SUMMARY:PK w/ Gumbo YaYa @ Central Market
DESCRIPTION:Funk it up\, Nola style
URL:https://pksax.com/event/pk-w-gumbo-yaya/
LOCATION:Central Market North\, 4001 N. Lamar\, Austin\, TX\, United States
END:VEVENT
BEGIN:VEVENT
DTSTART;TZID=America/Chicago:20260501T180000
DTEND;TZID=America/Chicago:20260501T203000
DTSTAMP:20260420T065505
CREATED:20260416T173828Z
LAST-MODIFIED:20260416T173828Z
UID:4497-1777658400-1777667400@pksax.com
SUMMARY:Earth Day Cabaret
DESCRIPTION:Sponsored by Creative SEA\, and hosted by Paul Klemperer. \nMixing music and humor\, Earth Day Cabaret blends jazz\, folk\, Latin and more with themes of environmental justice.  All ages welcome.
URL:https://pksax.com/event/earth-day-cabaret-2/
LOCATION:Batch Craft Beer & Kolaches\, 3220 Manor rd\, Austin\, TX\, United States
END:VEVENT
BEGIN:VEVENT
DTSTART;TZID=America/Chicago:20260503T103000
DTEND;TZID=America/Chicago:20260503T113000
DTSTAMP:20260420T065505
CREATED:20260408T033017Z
LAST-MODIFIED:20260408T033110Z
UID:4485-1777804200-1777807800@pksax.com
SUMMARY:Paul Klemperer Ensemble
DESCRIPTION:Jazz for breakfast! \nTexas Community Music Festival
URL:https://pksax.com/event/paul-klemperer-ensemble/
LOCATION:Central Market North\, 4001 N. Lamar\, Austin\, TX\, United States
END:VEVENT
BEGIN:VEVENT
DTSTART;TZID=America/Chicago:20260503T103000
DTEND;TZID=America/Chicago:20260503T113000
DTSTAMP:20260420T065505
CREATED:20260416T173944Z
LAST-MODIFIED:20260416T173944Z
UID:4499-1777804200-1777807800@pksax.com
SUMMARY:PK Ensemble @ Central Market
DESCRIPTION:PK plays for the Texas Community Music Festival.  A special morning set\, so get a coffee and join us!
URL:https://pksax.com/event/pk-ensemble-central-market/
LOCATION:Central Market North\, 4001 N. Lamar\, Austin\, TX\, United States
END:VEVENT
BEGIN:VEVENT
DTSTART;TZID=America/Chicago:20260521T190000
DTEND;TZID=America/Chicago:20260521T210000
DTSTAMP:20260420T065505
CREATED:20230220T042005Z
LAST-MODIFIED:20260416T175434Z
UID:3839-1779390000-1779397200@pksax.com
SUMMARY:Community Jazz Jam @ Barrel O Fun
DESCRIPTION:PK hosts the monthly Jazz Jam.  All ages & levels welcome.  Sponsored by Creative Social Engagement Through The Arts (CreativeSEA.org)
URL:https://pksax.com/event/community-jazz-jam-barrel-o-fun/
LOCATION:Barrel O’ Fun\, 1911 Aldrich St. suite 120B\, Austin\, TX\, 78723\, United States
END:VEVENT
END:VCALENDAR