BEGIN:VCALENDAR
VERSION:2.0
PRODID:-//PAUL KLEMPERER MUSIC - ECPv6.15.20//NONSGML v1.0//EN
CALSCALE:GREGORIAN
METHOD:PUBLISH
X-WR-CALNAME:PAUL KLEMPERER MUSIC
X-ORIGINAL-URL:https://pksax.com
X-WR-CALDESC:Events for PAUL KLEMPERER MUSIC
REFRESH-INTERVAL;VALUE=DURATION:PT1H
X-Robots-Tag:noindex
X-PUBLISHED-TTL:PT1H
BEGIN:VTIMEZONE
TZID:America/Chicago
BEGIN:DAYLIGHT
TZOFFSETFROM:-0600
TZOFFSETTO:-0500
TZNAME:CDT
DTSTART:20220313T080000
END:DAYLIGHT
BEGIN:STANDARD
TZOFFSETFROM:-0500
TZOFFSETTO:-0600
TZNAME:CST
DTSTART:20221106T070000
END:STANDARD
BEGIN:DAYLIGHT
TZOFFSETFROM:-0600
TZOFFSETTO:-0500
TZNAME:CDT
DTSTART:20230312T080000
END:DAYLIGHT
BEGIN:STANDARD
TZOFFSETFROM:-0500
TZOFFSETTO:-0600
TZNAME:CST
DTSTART:20231105T070000
END:STANDARD
BEGIN:DAYLIGHT
TZOFFSETFROM:-0600
TZOFFSETTO:-0500
TZNAME:CDT
DTSTART:20240310T080000
END:DAYLIGHT
BEGIN:STANDARD
TZOFFSETFROM:-0500
TZOFFSETTO:-0600
TZNAME:CST
DTSTART:20241103T070000
END:STANDARD
END:VTIMEZONE
BEGIN:VEVENT
DTSTART;TZID=America/Chicago:20230113T190000
DTEND;TZID=America/Chicago:20230113T203000
DTSTAMP:20260422T224019
CREATED:20230108T212008Z
LAST-MODIFIED:20230108T212008Z
UID:3796-1673636400-1673641800@pksax.com
SUMMARY:PK w/ Kim Simpson
DESCRIPTION:Kim Simpson’s unique approach to International Folk Music is always interesting\, and PK lends is saxophone to the adventure.
URL:https://pksax.com/event/pk-w-kim-simpson/
LOCATION:Sahara Lounge\, 1413 Webberville rd\, Austin\, TX\, United States
END:VEVENT
BEGIN:VEVENT
DTSTART;TZID=America/Chicago:20230118T180000
DTEND;TZID=America/Chicago:20230118T210000
DTSTAMP:20260422T224019
CREATED:20230108T212222Z
LAST-MODIFIED:20230108T212222Z
UID:3798-1674064800-1674075600@pksax.com
SUMMARY:PK w/ Soul Wagon Duo
DESCRIPTION:Jazz\, blues & more
URL:https://pksax.com/event/pk-w-soul-wagon-duo-2/
LOCATION:The Garden\, 3403 S. Lamar\, Austin\, TX\, 78704\, United States
END:VEVENT
BEGIN:VEVENT
DTSTART;TZID=America/Chicago:20230122T190000
DTEND;TZID=America/Chicago:20230122T210000
DTSTAMP:20260422T224019
CREATED:20230113T165026Z
LAST-MODIFIED:20230113T165026Z
UID:3807-1674414000-1674421200@pksax.com
SUMMARY:PK w/ Sharon Bourbonnais @ The Driskill
DESCRIPTION:Great duo jazz & blues
URL:https://pksax.com/event/pk-w-sharon-bourbonnais-the-driskill/
LOCATION:Driskill Hotel\, 604 Brazos\, Austin\, TX\, 78705\, United States
END:VEVENT
BEGIN:VEVENT
DTSTART;TZID=America/Chicago:20230125T180000
DTEND;TZID=America/Chicago:20230125T210000
DTSTAMP:20260422T224019
CREATED:20230116T175745Z
LAST-MODIFIED:20230116T175745Z
UID:3810-1674669600-1674680400@pksax.com
SUMMARY:Soul Wagon Duo
DESCRIPTION:PK & Benito B
URL:https://pksax.com/event/soul-wagon-duo/
LOCATION:The Garden\, 3403 S. Lamar\, Austin\, TX\, 78704\, United States
END:VEVENT
BEGIN:VEVENT
DTSTART;TZID=America/Chicago:20230126T173000
DTEND;TZID=America/Chicago:20230126T193000
DTSTAMP:20260422T224019
CREATED:20230117T003243Z
LAST-MODIFIED:20230117T003243Z
UID:3816-1674754200-1674761400@pksax.com
SUMMARY:Non-Profit Happy Hour @ Skylark Lounge
DESCRIPTION:Are you part of a non-profit\, or want to learn more about the non-profit organizations in our community? This is an informal networking gathering and all are welcome!
URL:https://pksax.com/event/non-profit-happy-hour-skylark-lounge/
LOCATION:The Skylark Lounge\, 2039 Airport Blvd.\, Austin\, TX\, 78722\, United States
END:VEVENT
BEGIN:VEVENT
DTSTART;TZID=America/Chicago:20230129T190000
DTEND;TZID=America/Chicago:20230129T210000
DTSTAMP:20260422T224019
CREATED:20230108T212716Z
LAST-MODIFIED:20230108T212716Z
UID:3802-1675018800-1675026000@pksax.com
SUMMARY:Community Jazz Jam
DESCRIPTION:PK hosts the Community Jazz Jam.  All ages and music levels welcome.
URL:https://pksax.com/event/community-jazz-jam/
LOCATION:Barrel O’ Fun\, 1911 Aldrich St. suite 120B\, Austin\, TX\, 78723\, United States
END:VEVENT
END:VCALENDAR