BEGIN:VCALENDAR
VERSION:2.0
PRODID:-//PAUL KLEMPERER MUSIC - ECPv6.15.20//NONSGML v1.0//EN
CALSCALE:GREGORIAN
METHOD:PUBLISH
X-ORIGINAL-URL:https://pksax.com
X-WR-CALDESC:Events for PAUL KLEMPERER MUSIC
REFRESH-INTERVAL;VALUE=DURATION:PT1H
X-Robots-Tag:noindex
X-PUBLISHED-TTL:PT1H
BEGIN:VTIMEZONE
TZID:America/Chicago
BEGIN:DAYLIGHT
TZOFFSETFROM:-0600
TZOFFSETTO:-0500
TZNAME:CDT
DTSTART:20230312T080000
END:DAYLIGHT
BEGIN:STANDARD
TZOFFSETFROM:-0500
TZOFFSETTO:-0600
TZNAME:CST
DTSTART:20231105T070000
END:STANDARD
BEGIN:DAYLIGHT
TZOFFSETFROM:-0600
TZOFFSETTO:-0500
TZNAME:CDT
DTSTART:20240310T080000
END:DAYLIGHT
BEGIN:STANDARD
TZOFFSETFROM:-0500
TZOFFSETTO:-0600
TZNAME:CST
DTSTART:20241103T070000
END:STANDARD
BEGIN:DAYLIGHT
TZOFFSETFROM:-0600
TZOFFSETTO:-0500
TZNAME:CDT
DTSTART:20250309T080000
END:DAYLIGHT
BEGIN:STANDARD
TZOFFSETFROM:-0500
TZOFFSETTO:-0600
TZNAME:CST
DTSTART:20251102T070000
END:STANDARD
END:VTIMEZONE
BEGIN:VEVENT
DTSTART;TZID=America/Chicago:20240412T180000
DTEND;TZID=America/Chicago:20240412T210000
DTSTAMP:20260422T013025
CREATED:20240307T013644Z
LAST-MODIFIED:20240307T013644Z
UID:4109-1712944800-1712955600@pksax.com
SUMMARY:Manteca Beat Allstars @ AARC
DESCRIPTION:Manteca Beat plus special Allstar guests!
URL:https://pksax.com/event/manteca-beat-allstars-aarc/
LOCATION:Asian American Resource Center\, 8401 Cameron Rd\, Austin\, TX\, United States
END:VEVENT
BEGIN:VEVENT
DTSTART;TZID=America/Chicago:20240421T130000
DTEND;TZID=America/Chicago:20240421T150000
DTSTAMP:20260422T013025
CREATED:20231002T175749Z
LAST-MODIFIED:20240401T170610Z
UID:3980-1713704400-1713711600@pksax.com
SUMMARY:PK hosts Jazz Workshop @ACC
DESCRIPTION:PK & band host a jazz workshop\, open to the public\, at Austin Community College Highland Campus. \nFree\, all ages welcome.
URL:https://pksax.com/event/pk-hosts-jazz-workshop-acc/
LOCATION:ACC Highland Campus\, 6101 Highland Campus Drive\, Austin\, TX\, 78752\, United States
END:VEVENT
BEGIN:VEVENT
DTSTART;TZID=America/Chicago:20240430T180000
DTEND;TZID=America/Chicago:20240430T200000
DTSTAMP:20260422T013025
CREATED:20240418T160025Z
LAST-MODIFIED:20240418T160025Z
UID:4155-1714500000-1714507200@pksax.com
SUMMARY:International Jazz Day Driveway Concert
DESCRIPTION:Paul Klemperer and friends present a free concert for the neighborhood.  The event will be live-streamed on Facebook as well.  6:00-8:00pm
URL:https://pksax.com/event/international-jazz-day-driveway-concert/
LOCATION:1704 Westmoor Dr\, Austin\, TX\, United States
END:VEVENT
END:VCALENDAR