BEGIN:VCALENDAR
VERSION:2.0
PRODID:-//PAUL KLEMPERER MUSIC - ECPv6.15.20//NONSGML v1.0//EN
CALSCALE:GREGORIAN
METHOD:PUBLISH
X-WR-CALNAME:PAUL KLEMPERER MUSIC
X-ORIGINAL-URL:https://pksax.com
X-WR-CALDESC:Events for PAUL KLEMPERER MUSIC
REFRESH-INTERVAL;VALUE=DURATION:PT1H
X-Robots-Tag:noindex
X-PUBLISHED-TTL:PT1H
BEGIN:VTIMEZONE
TZID:America/Chicago
BEGIN:DAYLIGHT
TZOFFSETFROM:-0600
TZOFFSETTO:-0500
TZNAME:CDT
DTSTART:20230312T080000
END:DAYLIGHT
BEGIN:STANDARD
TZOFFSETFROM:-0500
TZOFFSETTO:-0600
TZNAME:CST
DTSTART:20231105T070000
END:STANDARD
BEGIN:DAYLIGHT
TZOFFSETFROM:-0600
TZOFFSETTO:-0500
TZNAME:CDT
DTSTART:20240310T080000
END:DAYLIGHT
BEGIN:STANDARD
TZOFFSETFROM:-0500
TZOFFSETTO:-0600
TZNAME:CST
DTSTART:20241103T070000
END:STANDARD
BEGIN:DAYLIGHT
TZOFFSETFROM:-0600
TZOFFSETTO:-0500
TZNAME:CDT
DTSTART:20250309T080000
END:DAYLIGHT
BEGIN:STANDARD
TZOFFSETFROM:-0500
TZOFFSETTO:-0600
TZNAME:CST
DTSTART:20251102T070000
END:STANDARD
END:VTIMEZONE
BEGIN:VEVENT
DTSTART;TZID=America/Chicago:20240525T180000
DTEND;TZID=America/Chicago:20240525T213000
DTSTAMP:20260421T235809
CREATED:20240401T171510Z
LAST-MODIFIED:20240401T171510Z
UID:4136-1716660000-1716672600@pksax.com
SUMMARY:Manteca Beat Allstars Concert
DESCRIPTION:A concert featuring up and coming players backed by Paul Klemperer & Manteca Beat. \nThis concert is sponsored in part by City of Austin’s Live Music Fun Program.
URL:https://pksax.com/event/manteca-beat-allstars-concert/
LOCATION:Kenny Dorham’s Backyard\, 1106 E. 11th Street\, Austin\, Texas\, United States
END:VEVENT
END:VCALENDAR