BEGIN:VCALENDAR
VERSION:2.0
PRODID:-//PAUL KLEMPERER MUSIC - ECPv6.15.20//NONSGML v1.0//EN
CALSCALE:GREGORIAN
METHOD:PUBLISH
X-ORIGINAL-URL:https://pksax.com
X-WR-CALDESC:Events for PAUL KLEMPERER MUSIC
REFRESH-INTERVAL;VALUE=DURATION:PT1H
X-Robots-Tag:noindex
X-PUBLISHED-TTL:PT1H
BEGIN:VTIMEZONE
TZID:America/Chicago
BEGIN:DAYLIGHT
TZOFFSETFROM:-0600
TZOFFSETTO:-0500
TZNAME:CDT
DTSTART:20240310T080000
END:DAYLIGHT
BEGIN:STANDARD
TZOFFSETFROM:-0500
TZOFFSETTO:-0600
TZNAME:CST
DTSTART:20241103T070000
END:STANDARD
BEGIN:DAYLIGHT
TZOFFSETFROM:-0600
TZOFFSETTO:-0500
TZNAME:CDT
DTSTART:20250309T080000
END:DAYLIGHT
BEGIN:STANDARD
TZOFFSETFROM:-0500
TZOFFSETTO:-0600
TZNAME:CST
DTSTART:20251102T070000
END:STANDARD
BEGIN:DAYLIGHT
TZOFFSETFROM:-0600
TZOFFSETTO:-0500
TZNAME:CDT
DTSTART:20260308T080000
END:DAYLIGHT
BEGIN:STANDARD
TZOFFSETFROM:-0500
TZOFFSETTO:-0600
TZNAME:CST
DTSTART:20261101T070000
END:STANDARD
END:VTIMEZONE
BEGIN:VEVENT
DTSTART;TZID=America/Chicago:20250402T200000
DTEND;TZID=America/Chicago:20250402T220000
DTSTAMP:20260421T050804
CREATED:20240307T012449Z
LAST-MODIFIED:20250330T205331Z
UID:4099-1743624000-1743631200@pksax.com
SUMMARY:PK w/ Matt Melton @ Bobo's
DESCRIPTION:Soothing pop and jazz in an intimate setting.
URL:https://pksax.com/event/pk-w-matt-melton-tigress/
LOCATION:Bobo’s Snackbar\, 3850 Airport Blvd\, Austin\, TX\, United States
END:VEVENT
BEGIN:VEVENT
DTSTART;TZID=America/Chicago:20250405T160000
DTEND;TZID=America/Chicago:20250405T200000
DTSTAMP:20260421T050804
CREATED:20250327T214424Z
LAST-MODIFIED:20250327T214424Z
UID:4355-1743868800-1743883200@pksax.com
SUMMARY:Emerging Artists Jazz Concert
DESCRIPTION:As an AFM Local 433 member\, Paul is helping produce this concert featuring great local artists. \nConcert at The Cube\, the Union Hall inside the IBEW  building. \nFree & open to all!
URL:https://pksax.com/event/emerging-artists-jazz-concert/
LOCATION:IBEW 520\, 4818 E. Ben White\, Austin\, TX\, 78741\, United States
END:VEVENT
BEGIN:VEVENT
DTSTART;TZID=America/Chicago:20250406T180000
DTEND;TZID=America/Chicago:20250406T190000
DTSTAMP:20260421T050804
CREATED:20230507T144758Z
LAST-MODIFIED:20250330T205622Z
UID:3929-1743962400-1743966000@pksax.com
SUMMARY:Paul Klemperer Ensemble @ Central Market
DESCRIPTION:Texas Community Music Festival\, a great annual showcase of local community ensembles.  PK plays jazz standards.
URL:https://pksax.com/event/austin-jazz-band-central-market/
LOCATION:Central Market North\, 4001 N. Lamar\, Austin\, TX\, United States
END:VEVENT
BEGIN:VEVENT
DTSTART;TZID=America/Chicago:20250409T193000
DTEND;TZID=America/Chicago:20250409T213000
DTSTAMP:20260421T050804
CREATED:20231117T031639Z
LAST-MODIFIED:20250327T214554Z
UID:4037-1744227000-1744234200@pksax.com
SUMMARY:PK & Friends @ Bobo's: Spacey Music
DESCRIPTION:PK & Friends play a mix of songs for an Uncertain Future @ Bobo’s. \n 
URL:https://pksax.com/event/festivus-lounge-party/
LOCATION:Bobo’s Snackbar\, 3850 Airport Blvd\, Austin\, TX\, United States
END:VEVENT
BEGIN:VEVENT
DTSTART;TZID=America/Chicago:20250411T183000
DTEND;TZID=America/Chicago:20250411T210000
DTSTAMP:20260421T050804
CREATED:20250106T190506Z
LAST-MODIFIED:20250306T172932Z
UID:4289-1744396200-1744405200@pksax.com
SUMMARY:Community Song Workshop
DESCRIPTION:Creative SEA presents the Community Song Workshop\, an informal gathering for folks to sing and play songs that we have in common.
URL:https://pksax.com/event/community-song-workshop/
LOCATION:Unity Church Of The Hills\, 9905 Anderson Mill Rd\, Austin\, 78750\, United States
END:VEVENT
BEGIN:VEVENT
DTSTART;TZID=America/Chicago:20250418T190000
DTEND;TZID=America/Chicago:20250418T220000
DTSTAMP:20260421T050804
CREATED:20250106T190820Z
LAST-MODIFIED:20250306T174824Z
UID:4291-1745002800-1745013600@pksax.com
SUMMARY:PK w/ Mean Uncles @ Lucky Rabbit Jonestown
DESCRIPTION:Great R&B\, Blues\, Rock.
URL:https://pksax.com/event/pk-duo-lucky-rabbit-jonestown/
LOCATION:Lucky Rabbit\, 18626 RM 1431\, Jonestown\,\, TX\, 78645\, United States
END:VEVENT
BEGIN:VEVENT
DTSTART;TZID=America/Chicago:20250426T183000
DTEND;TZID=America/Chicago:20250426T210000
DTSTAMP:20260421T050804
CREATED:20240401T170742Z
LAST-MODIFIED:20250327T215018Z
UID:4132-1745692200-1745701200@pksax.com
SUMMARY:Earth Day Cabaret!
DESCRIPTION:PK hosts an evening of music\, dance & humor to celebrate International Earth Day.
URL:https://pksax.com/event/earth-day-cabaret/
LOCATION:Captain Quackenbush\, 5326 Menchaca\, Austin\, TX\, United States
END:VEVENT
END:VCALENDAR