BEGIN:VCALENDAR
VERSION:2.0
PRODID:-//PAUL KLEMPERER MUSIC - ECPv6.15.20//NONSGML v1.0//EN
CALSCALE:GREGORIAN
METHOD:PUBLISH
X-ORIGINAL-URL:https://pksax.com
X-WR-CALDESC:Events for PAUL KLEMPERER MUSIC
REFRESH-INTERVAL;VALUE=DURATION:PT1H
X-Robots-Tag:noindex
X-PUBLISHED-TTL:PT1H
BEGIN:VTIMEZONE
TZID:America/Chicago
BEGIN:DAYLIGHT
TZOFFSETFROM:-0600
TZOFFSETTO:-0500
TZNAME:CDT
DTSTART:20240310T080000
END:DAYLIGHT
BEGIN:STANDARD
TZOFFSETFROM:-0500
TZOFFSETTO:-0600
TZNAME:CST
DTSTART:20241103T070000
END:STANDARD
BEGIN:DAYLIGHT
TZOFFSETFROM:-0600
TZOFFSETTO:-0500
TZNAME:CDT
DTSTART:20250309T080000
END:DAYLIGHT
BEGIN:STANDARD
TZOFFSETFROM:-0500
TZOFFSETTO:-0600
TZNAME:CST
DTSTART:20251102T070000
END:STANDARD
BEGIN:DAYLIGHT
TZOFFSETFROM:-0600
TZOFFSETTO:-0500
TZNAME:CDT
DTSTART:20260308T080000
END:DAYLIGHT
BEGIN:STANDARD
TZOFFSETFROM:-0500
TZOFFSETTO:-0600
TZNAME:CST
DTSTART:20261101T070000
END:STANDARD
END:VTIMEZONE
BEGIN:VEVENT
DTSTART;TZID=America/Chicago:20250502T200000
DTEND;TZID=America/Chicago:20250502T220000
DTSTAMP:20260424T220542
CREATED:20240919T172927Z
LAST-MODIFIED:20250330T205957Z
UID:4229-1746216000-1746223200@pksax.com
SUMMARY:PK w/ Julie Slim @ Monks
DESCRIPTION:Julie Slim album release showcase
URL:https://pksax.com/event/paul-klemperer-4-tet-monks/
LOCATION:Monks\, 501 Pedernales\, Austin\, TX\, United States
END:VEVENT
BEGIN:VEVENT
DTSTART;TZID=America/Chicago:20250503T183000
DTEND;TZID=America/Chicago:20250503T210000
DTSTAMP:20260424T220542
CREATED:20231002T175849Z
LAST-MODIFIED:20250330T210121Z
UID:3983-1746297000-1746306000@pksax.com
SUMMARY:PK w/ Soul Wagon @ Central Market Westgate
DESCRIPTION:Funk\, jazz & blues
URL:https://pksax.com/event/pk-w-debra-watson-3/
LOCATION:Central Market Westgate\, Westgate blvd\, Austin
END:VEVENT
END:VCALENDAR