BEGIN:VCALENDAR
VERSION:2.0
PRODID:-//PAUL KLEMPERER MUSIC - ECPv6.15.20//NONSGML v1.0//EN
CALSCALE:GREGORIAN
METHOD:PUBLISH
X-ORIGINAL-URL:https://pksax.com
X-WR-CALDESC:Events for PAUL KLEMPERER MUSIC
REFRESH-INTERVAL;VALUE=DURATION:PT1H
X-Robots-Tag:noindex
X-PUBLISHED-TTL:PT1H
BEGIN:VTIMEZONE
TZID:America/New_York
BEGIN:DAYLIGHT
TZOFFSETFROM:-0500
TZOFFSETTO:-0400
TZNAME:EDT
DTSTART:20240310T070000
END:DAYLIGHT
BEGIN:STANDARD
TZOFFSETFROM:-0400
TZOFFSETTO:-0500
TZNAME:EST
DTSTART:20241103T060000
END:STANDARD
BEGIN:DAYLIGHT
TZOFFSETFROM:-0500
TZOFFSETTO:-0400
TZNAME:EDT
DTSTART:20250309T070000
END:DAYLIGHT
BEGIN:STANDARD
TZOFFSETFROM:-0400
TZOFFSETTO:-0500
TZNAME:EST
DTSTART:20251102T060000
END:STANDARD
BEGIN:DAYLIGHT
TZOFFSETFROM:-0500
TZOFFSETTO:-0400
TZNAME:EDT
DTSTART:20260308T070000
END:DAYLIGHT
BEGIN:STANDARD
TZOFFSETFROM:-0400
TZOFFSETTO:-0500
TZNAME:EST
DTSTART:20261101T060000
END:STANDARD
END:VTIMEZONE
BEGIN:VTIMEZONE
TZID:America/Chicago
BEGIN:DAYLIGHT
TZOFFSETFROM:-0600
TZOFFSETTO:-0500
TZNAME:CDT
DTSTART:20240310T080000
END:DAYLIGHT
BEGIN:STANDARD
TZOFFSETFROM:-0500
TZOFFSETTO:-0600
TZNAME:CST
DTSTART:20241103T070000
END:STANDARD
BEGIN:DAYLIGHT
TZOFFSETFROM:-0600
TZOFFSETTO:-0500
TZNAME:CDT
DTSTART:20250309T080000
END:DAYLIGHT
BEGIN:STANDARD
TZOFFSETFROM:-0500
TZOFFSETTO:-0600
TZNAME:CST
DTSTART:20251102T070000
END:STANDARD
BEGIN:DAYLIGHT
TZOFFSETFROM:-0600
TZOFFSETTO:-0500
TZNAME:CDT
DTSTART:20260308T080000
END:DAYLIGHT
BEGIN:STANDARD
TZOFFSETFROM:-0500
TZOFFSETTO:-0600
TZNAME:CST
DTSTART:20261101T070000
END:STANDARD
END:VTIMEZONE
BEGIN:VEVENT
DTSTART;TZID=America/New_York:20250904T180000
DTEND;TZID=America/New_York:20250904T200000
DTSTAMP:20260424T163002
CREATED:20180602T165732Z
LAST-MODIFIED:20250810T165049Z
UID:2762-1757008800-1757016000@pksax.com
SUMMARY:PK's NH Ensemble @ Aldworth Manor
DESCRIPTION:A beautiful setting for music as the sun sets.  Come listen\, drink\, dance\, with a view of Mt. Monadnock.
URL:https://pksax.com/event/pks-nh-ensemble-aldworth-manor/
LOCATION:Aldworth Manor\, Harrisville\, NH\, United States
END:VEVENT
BEGIN:VEVENT
DTSTART;TZID=America/Chicago:20250927T140000
DTEND;TZID=America/Chicago:20250927T170000
DTSTAMP:20260424T163002
CREATED:20250810T171446Z
LAST-MODIFIED:20250810T171446Z
UID:4399-1758981600-1758992400@pksax.com
SUMMARY:Interactive Concert: All Welcome!
DESCRIPTION:Paul Klemperer & Friends play music in English and Spanish .  Great jazz\, pop and Latin classics. \nFree and open to the public. \nSponsored by CreativeSea.org
URL:https://pksax.com/event/interactive-concert-all-welcome/
LOCATION:St. John’s Lutheran\, Austin\, TX\, United States
END:VEVENT
END:VCALENDAR