BEGIN:VCALENDAR
VERSION:2.0
PRODID:-//PAUL KLEMPERER MUSIC - ECPv6.15.20//NONSGML v1.0//EN
CALSCALE:GREGORIAN
METHOD:PUBLISH
X-ORIGINAL-URL:https://pksax.com
X-WR-CALDESC:Events for PAUL KLEMPERER MUSIC
REFRESH-INTERVAL;VALUE=DURATION:PT1H
X-Robots-Tag:noindex
X-PUBLISHED-TTL:PT1H
BEGIN:VTIMEZONE
TZID:America/Chicago
BEGIN:DAYLIGHT
TZOFFSETFROM:-0600
TZOFFSETTO:-0500
TZNAME:CDT
DTSTART:20240310T080000
END:DAYLIGHT
BEGIN:STANDARD
TZOFFSETFROM:-0500
TZOFFSETTO:-0600
TZNAME:CST
DTSTART:20241103T070000
END:STANDARD
BEGIN:DAYLIGHT
TZOFFSETFROM:-0600
TZOFFSETTO:-0500
TZNAME:CDT
DTSTART:20250309T080000
END:DAYLIGHT
BEGIN:STANDARD
TZOFFSETFROM:-0500
TZOFFSETTO:-0600
TZNAME:CST
DTSTART:20251102T070000
END:STANDARD
BEGIN:DAYLIGHT
TZOFFSETFROM:-0600
TZOFFSETTO:-0500
TZNAME:CDT
DTSTART:20260308T080000
END:DAYLIGHT
BEGIN:STANDARD
TZOFFSETFROM:-0500
TZOFFSETTO:-0600
TZNAME:CST
DTSTART:20261101T070000
END:STANDARD
END:VTIMEZONE
BEGIN:VEVENT
DTSTART;TZID=America/Chicago:20251009T213000
DTEND;TZID=America/Chicago:20251009T233000
DTSTAMP:20260424T151106
CREATED:20250309T232935Z
LAST-MODIFIED:20251004T160255Z
UID:4343-1760045400-1760052600@pksax.com
SUMMARY:PK w/ Woody Russell
DESCRIPTION:Cool guitar & sax jams
URL:https://pksax.com/event/pk-w-woody-russell/
LOCATION:Fairmont Hotel\, 101 Red River\, Austin\, TX\, United States
END:VEVENT
BEGIN:VEVENT
DTSTART;TZID=America/Chicago:20251025T180000
DTEND;TZID=America/Chicago:20251025T210000
DTSTAMP:20260424T151106
CREATED:20251004T160801Z
LAST-MODIFIED:20251004T160801Z
UID:4423-1761415200-1761426000@pksax.com
SUMMARY:Indo-Jazz Explorations @ Unity Church
DESCRIPTION:Indo-Jazz Explorations\, with special guest Indrajit Banerjee. \nSaxophonist Paul Klemperer leads the ensemble My Exotic Other in an exciting program of world music.  Teaming up with sitar virtuoso Banerjee\, they take a deep dive into classical Indian raga\, jazz and funk\, and the result is exciting and beautiful music.
URL:https://pksax.com/event/indo-jazz-explorations-unity-church/
LOCATION:Unity Church Of The Hills\, 9905 Anderson Mill Rd\, Austin\, 78750\, United States
END:VEVENT
END:VCALENDAR